BEGIN:VCALENDAR
VERSION:2.0
PRODID:-//LASUMEGA - ECPv6.15.20//NONSGML v1.0//EN
CALSCALE:GREGORIAN
METHOD:PUBLISH
X-WR-CALNAME:LASUMEGA
X-ORIGINAL-URL:https://lasumega.org
X-WR-CALDESC:Events for LASUMEGA
REFRESH-INTERVAL;VALUE=DURATION:PT1H
X-Robots-Tag:noindex
X-PUBLISHED-TTL:PT1H
BEGIN:VTIMEZONE
TZID:UTC
BEGIN:STANDARD
TZOFFSETFROM:+0000
TZOFFSETTO:+0000
TZNAME:UTC
DTSTART:20230101T000000
END:STANDARD
END:VTIMEZONE
BEGIN:VEVENT
DTSTART;TZID=UTC:20241221T140000
DTEND;TZID=UTC:20241221T153000
DTSTAMP:20260424T165716
CREATED:20241219T113443Z
LAST-MODIFIED:20241219T113443Z
UID:2922-1734789600-1734795000@lasumega.org
SUMMARY:AL-WAQF: Tomorrow
DESCRIPTION:As muslims\, we are enjoined to help one another upon goodness. Al-Waqf is one of such institutions in Islam that allows individuals and communities to provide adequate support for downtrodden and flag bears of dawah. Join us on Saturday\, December 21st\, 2024 as we shed light on what we should do participate in al-Waqf for tomorrow.
URL:https://lasumega.org/event/al-waqf-tomorrow/
LOCATION:Virtual Event
CATEGORIES:Al-Waqf Series
ATTACH;FMTTYPE=image/jpeg:https://lasumega.org/wp-content/uploads/2024/12/event_dec-21-2024.jpeg
ORGANIZER;CN="LASUMEGA":MAILTO:lasumega@gmail.com
END:VEVENT
BEGIN:VEVENT
DTSTART;TZID=UTC:20241207T140000
DTEND;TZID=UTC:20241207T153000
DTSTAMP:20260424T165716
CREATED:20241203T135911Z
LAST-MODIFIED:20241203T135912Z
UID:2912-1733580000-1733585400@lasumega.org
SUMMARY:AL-WAQF: Today
DESCRIPTION:As muslims\, we are enjoined to help one another upon goodness. Al-Waqf is one of such institutions in Islam that allows individuals and communities to provide adequate support for downtrodden and flag bears of dawah. Join us on Saturday\, December 7th\, 2024 as we shed light on how practical al-Waqf is in our present day.
URL:https://lasumega.org/event/al-waqf-today/
LOCATION:Virtual Event
CATEGORIES:Al-Waqf Series
ATTACH;FMTTYPE=image/jpeg:https://lasumega.org/wp-content/uploads/2024/12/event_dec-7-2024.jpeg
ORGANIZER;CN="LASUMEGA":MAILTO:lasumega@gmail.com
END:VEVENT
BEGIN:VEVENT
DTSTART;TZID=UTC:20241116T140000
DTEND;TZID=UTC:20241116T153000
DTSTAMP:20260424T165716
CREATED:20241114T102635Z
LAST-MODIFIED:20241203T135931Z
UID:2908-1731765600-1731771000@lasumega.org
SUMMARY:AL-WAQF: Yesterday - Fundamentals and Benefits
DESCRIPTION:As muslims\, we are enjoined to help one another upon goodness. Al-Waqf is one of such institutions in Islam that allows individuals and communities to provide adequate support for downtrodden and flag bears of dawah. Join us on Saturday\, November 16th\, 2024 as we x-ray some of numerous gains al-Waqf done as done by our predecessors.
URL:https://lasumega.org/event/al-waqf-yesterday-fundamentals-and-benefits/
LOCATION:Virtual Event
CATEGORIES:Al-Waqf Series
ATTACH;FMTTYPE=image/jpeg:https://lasumega.org/wp-content/uploads/2024/11/event_nov-16-2024-scaled.jpeg
ORGANIZER;CN="LASUMEGA":MAILTO:lasumega@gmail.com
END:VEVENT
END:VCALENDAR