BEGIN:VCALENDAR
VERSION:2.0
PRODID:-//LASUMEGA - ECPv6.15.20//NONSGML v1.0//EN
CALSCALE:GREGORIAN
METHOD:PUBLISH
X-ORIGINAL-URL:https://lasumega.org
X-WR-CALDESC:Events for LASUMEGA
REFRESH-INTERVAL;VALUE=DURATION:PT1H
X-Robots-Tag:noindex
X-PUBLISHED-TTL:PT1H
BEGIN:VTIMEZONE
TZID:Europe/Paris
BEGIN:DAYLIGHT
TZOFFSETFROM:+0100
TZOFFSETTO:+0200
TZNAME:CEST
DTSTART:20230326T010000
END:DAYLIGHT
BEGIN:STANDARD
TZOFFSETFROM:+0200
TZOFFSETTO:+0100
TZNAME:CET
DTSTART:20231029T010000
END:STANDARD
BEGIN:DAYLIGHT
TZOFFSETFROM:+0100
TZOFFSETTO:+0200
TZNAME:CEST
DTSTART:20240331T010000
END:DAYLIGHT
BEGIN:STANDARD
TZOFFSETFROM:+0200
TZOFFSETTO:+0100
TZNAME:CET
DTSTART:20241027T010000
END:STANDARD
BEGIN:DAYLIGHT
TZOFFSETFROM:+0100
TZOFFSETTO:+0200
TZNAME:CEST
DTSTART:20250330T010000
END:DAYLIGHT
BEGIN:STANDARD
TZOFFSETFROM:+0200
TZOFFSETTO:+0100
TZNAME:CET
DTSTART:20251026T010000
END:STANDARD
END:VTIMEZONE
BEGIN:VTIMEZONE
TZID:UTC
BEGIN:STANDARD
TZOFFSETFROM:+0000
TZOFFSETTO:+0000
TZNAME:UTC
DTSTART:20230101T000000
END:STANDARD
END:VTIMEZONE
BEGIN:VEVENT
DTSTART;TZID=Europe/Paris:20240803T170000
DTEND;TZID=Europe/Paris:20240803T180000
DTSTAMP:20260422T081435
CREATED:20240724T162846Z
LAST-MODIFIED:20240724T162847Z
UID:2883-1722704400-1722708000@lasumega.org
SUMMARY:Mentor & Mentee Session: Effective Mentoring Program for Muslim Professionals
DESCRIPTION:This event will feature our amiable Engr. Faheed Olajide\, CEO Omnicoms Solutions Limited\, who is an accomplished telecommunication engineer and entrepreneur.
URL:https://lasumega.org/event/mentor-mentee-session-effective-mentoring-program-for-muslim-professionals/
LOCATION:Virtual Event
ATTACH;FMTTYPE=image/jpeg:https://lasumega.org/wp-content/uploads/2024/07/lasumega-mentor-mentee.jpeg
ORGANIZER;CN="LASUMEGA":MAILTO:lasumega@gmail.com
END:VEVENT
BEGIN:VEVENT
DTSTART;TZID=UTC:20240811T140000
DTEND;TZID=UTC:20240811T150000
DTSTAMP:20260422T081435
CREATED:20240821T120832Z
LAST-MODIFIED:20240821T120832Z
UID:2898-1723384800-1723388400@lasumega.org
SUMMARY:Amanah Series: Amanah As It Concerns The Home
DESCRIPTION:Deen is Trust. In these series\, we would be reminding ourselves of our obligation to uphold trust and amanah in the home.
URL:https://lasumega.org/event/amanah-series-amanah-as-it-concerns-the-home/
LOCATION:Virtual Event
CATEGORIES:Amanah Series
ATTACH;FMTTYPE=image/jpeg:https://lasumega.org/wp-content/uploads/2024/08/amanah-series-amanah-at-home.jpeg
ORGANIZER;CN="LASUMEGA":MAILTO:lasumega@gmail.com
END:VEVENT
BEGIN:VEVENT
DTSTART;TZID=UTC:20240817T163000
DTEND;TZID=UTC:20240817T173000
DTSTAMP:20260422T081435
CREATED:20240821T114130Z
LAST-MODIFIED:20240821T115315Z
UID:2889-1723912200-1723915800@lasumega.org
SUMMARY:Diaspora Diaries: Coping Mechanisms and Mental Health Strategies for JAPA
DESCRIPTION:In the first of our diaspora diaries series\, we invite you to join us to discuss and understand coping mechanism and mental health strategies to help with Japa!!!
URL:https://lasumega.org/event/diaspora-diaries-coping-mechanisms-and-mental-health-strategies-for-japa/
LOCATION:Virtual Event
CATEGORIES:Diaspora Diaries
ATTACH;FMTTYPE=image/jpeg:https://lasumega.org/wp-content/uploads/2024/08/diaspora-diaries-lecture-1.jpeg
ORGANIZER;CN="LASUMEGA":MAILTO:lasumega@gmail.com
END:VEVENT
BEGIN:VEVENT
DTSTART;TZID=UTC:20240824T163000
DTEND;TZID=UTC:20240824T173000
DTSTAMP:20260422T081435
CREATED:20240821T114736Z
LAST-MODIFIED:20240821T121004Z
UID:2892-1724517000-1724520600@lasumega.org
SUMMARY:Diaspora Diaries: Sustaining and Preparing for Living Abroad
DESCRIPTION:As part of our diaspora diaries series\, we invite you to join us to discuss the psychological impacts of Japa with focus on how to sustain and prepare for living abroad.
URL:https://lasumega.org/event/diaspora-diaries-sustaining-and-preparing-for-living-abroad/
LOCATION:Virtual Event
CATEGORIES:Diaspora Diaries
ATTACH;FMTTYPE=image/jpeg:https://lasumega.org/wp-content/uploads/2024/08/diaspora-diaries-lecture-2.jpeg
ORGANIZER;CN="LASUMEGA":MAILTO:lasumega@gmail.com
END:VEVENT
END:VCALENDAR